BEGIN:VCALENDAR
VERSION:2.0
PRODID:-//empowercdc.org//NONSGML kigkonsult.se iCalcreator 2.30.10//
CALSCALE:GREGORIAN
METHOD:PUBLISH
UID:44d7173e-b118-4d58-b10c-659020cff7c3
X-WR-CALDESC:Arts and Crafts:  DIY Mandela.  Enjoy the art of coloring your
  own Mosaic piece.
X-WR-RELCALID:ec87f78874aa005f06d546ad2b49b2b3
X-WR-TIMEZONE:America/Chicago
BEGIN:VTIMEZONE
TZID:America/Chicago
BEGIN:STANDARD
TZNAME:CST
DTSTART:20201101T020000
TZOFFSETFROM:-0500
TZOFFSETTO:-0600
RDATE:20211107T020000
RDATE:20221106T020000
END:STANDARD
BEGIN:DAYLIGHT
TZNAME:CDT
DTSTART:20210314T020000
TZOFFSETFROM:-0600
TZOFFSETTO:-0500
RDATE:20220313T020000
END:DAYLIGHT
END:VTIMEZONE
BEGIN:VEVENT
UID:e3957414-1f99-42fb-9575-e81e6dc2626e
DTSTAMP:20260424T120539Z
DESCRIPTION:Arts and Crafts:  DIY Mandela.  Enjoy the art of coloring your 
 own Mosaic piece.
DTSTART;TZID=America/Chicago:20210628T163000
DTEND;TZID=America/Chicago:20210628T173000
LOCATION:
SUMMARY:Arts and Crafts:  DIY Mandela
END:VEVENT
END:VCALENDAR
