BEGIN:VCALENDAR
VERSION:2.0
PRODID:-//empowercdc.org//NONSGML kigkonsult.se iCalcreator 2.30.10//
CALSCALE:GREGORIAN
METHOD:PUBLISH
UID:8319b40c-f4e9-4aac-b258-f997ea81b040
X-WR-CALDESC:Backyard Bootcamp.. Virtual Videos of Beginners Workouts
X-WR-RELCALID:189994ee72b72b9d1226b628d29d1c04
X-WR-TIMEZONE:America/Chicago
BEGIN:VTIMEZONE
TZID:America/Chicago
BEGIN:STANDARD
TZNAME:CST
DTSTART:20201101T020000
TZOFFSETFROM:-0500
TZOFFSETTO:-0600
RDATE:20211107T020000
RDATE:20221106T020000
END:STANDARD
BEGIN:DAYLIGHT
TZNAME:CDT
DTSTART:20210314T020000
TZOFFSETFROM:-0600
TZOFFSETTO:-0500
RDATE:20220313T020000
END:DAYLIGHT
END:VTIMEZONE
BEGIN:VEVENT
UID:e1c6e1f2-2dc3-45be-9452-e28151e665ca
DTSTAMP:20260424T120057Z
DESCRIPTION:Backyard Bootcamp.. Virtual Videos of Beginners Workouts
DTSTART;TZID=America/Chicago:20210625T110000
DTEND;TZID=America/Chicago:20210625T120000
LOCATION:
SUMMARY:Exercise:  BACKYARD BOOTCAMP
END:VEVENT
END:VCALENDAR
