BEGIN:VCALENDAR
VERSION:2.0
PRODID:-//empowercdc.org//NONSGML kigkonsult.se iCalcreator 2.30.10//
CALSCALE:GREGORIAN
METHOD:PUBLISH
UID:2dfcbca4-d4ae-435c-883c-cfb64333d171
X-WR-CALDESC:Meet and Greet: Come out and have a great time meeting your ne
 ighbors.
X-WR-RELCALID:bc254a2198dca66fa2ae57bcbb4c2593
X-WR-TIMEZONE:America/Chicago
BEGIN:VTIMEZONE
TZID:America/Chicago
BEGIN:STANDARD
TZNAME:CST
DTSTART:20201101T020000
TZOFFSETFROM:-0500
TZOFFSETTO:-0600
RDATE:20211107T020000
RDATE:20221106T020000
END:STANDARD
BEGIN:DAYLIGHT
TZNAME:CDT
DTSTART:20210314T020000
TZOFFSETFROM:-0600
TZOFFSETTO:-0500
RDATE:20220313T020000
END:DAYLIGHT
END:VTIMEZONE
BEGIN:VEVENT
UID:bcc51a91-df12-46ed-8cde-e7c96e372e4a
DTSTAMP:20260424T120415Z
DESCRIPTION:Meet and Greet: Come out and have a great time meeting your nei
 ghbors.
DTSTART;TZID=America/Chicago:20210622T140000
DTEND;TZID=America/Chicago:20210622T150000
LOCATION:
SUMMARY:Social:  Meet and Greet
END:VEVENT
END:VCALENDAR
