BEGIN:VCALENDAR
VERSION:2.0
PRODID:-//empowercdc.org//NONSGML kigkonsult.se iCalcreator 2.30.10//
CALSCALE:GREGORIAN
METHOD:PUBLISH
UID:a41ad1b4-9616-493a-9e98-b621c208b46a
X-WR-CALDESC:Arts and Crafts:  DIY Watch It Grow -  Plant your own vegetabl
 e or flower.
X-WR-RELCALID:36e0a5efdfecd0c82c86653a32c3d2f1
X-WR-TIMEZONE:America/Chicago
BEGIN:VTIMEZONE
TZID:America/Chicago
BEGIN:STANDARD
TZNAME:CST
DTSTART:20201101T020000
TZOFFSETFROM:-0500
TZOFFSETTO:-0600
RDATE:20211107T020000
RDATE:20221106T020000
END:STANDARD
BEGIN:DAYLIGHT
TZNAME:CDT
DTSTART:20210314T020000
TZOFFSETFROM:-0600
TZOFFSETTO:-0500
RDATE:20220313T020000
END:DAYLIGHT
END:VTIMEZONE
BEGIN:VEVENT
UID:5695a566-f554-419f-9a50-d03166eb17bb
DTSTAMP:20260424T120641Z
DESCRIPTION:Arts and Crafts:  DIY Watch It Grow -  Plant your own vegetable
  or flower.
DTSTART;TZID=America/Chicago:20210622T160000
DTEND;TZID=America/Chicago:20210622T170000
LOCATION:
SUMMARY:Arts and Crafts:  DIY Watch It Grow
END:VEVENT
END:VCALENDAR
