BEGIN:VCALENDAR
VERSION:2.0
PRODID:-//empowercdc.org//NONSGML kigkonsult.se iCalcreator 2.30.10//
CALSCALE:GREGORIAN
METHOD:PUBLISH
UID:fc912d3f-388c-48da-ab7f-10757c6351fe
X-WR-CALDESC:Meet and Greet: Come out and have a great time meeting your ne
 ighbors.
X-WR-RELCALID:ae2804e1d011904e854f472ec2e1aaad
X-WR-TIMEZONE:America/Chicago
BEGIN:VTIMEZONE
TZID:America/Chicago
BEGIN:STANDARD
TZNAME:CST
DTSTART:20201101T020000
TZOFFSETFROM:-0500
TZOFFSETTO:-0600
RDATE:20211107T020000
RDATE:20221106T020000
END:STANDARD
BEGIN:DAYLIGHT
TZNAME:CDT
DTSTART:20210314T020000
TZOFFSETFROM:-0600
TZOFFSETTO:-0500
RDATE:20220313T020000
END:DAYLIGHT
END:VTIMEZONE
BEGIN:VEVENT
UID:17587a78-429d-4505-8861-bc36de7e1998
DTSTAMP:20260424T120237Z
DESCRIPTION:Meet and Greet: Come out and have a great time meeting your nei
 ghbors.
DTSTART;TZID=America/Chicago:20210621T160000
DTEND;TZID=America/Chicago:20210621T170000
LOCATION:
SUMMARY:Social:  Meet and Greet
END:VEVENT
END:VCALENDAR
