BEGIN:VCALENDAR
VERSION:2.0
PRODID:-//empowercdc.org//NONSGML kigkonsult.se iCalcreator 2.30.10//
CALSCALE:GREGORIAN
METHOD:PUBLISH
UID:8944590b-0781-49a6-a6fe-dcf4d40dc0a9
X-WR-CALDESC:Health and Nutrition:  Quiz on Health and Nutrition Quiz.  Fas
 test completion and accuracy wins a prize.
X-WR-RELCALID:620c4fb4bfed8de2ef57c89dfbebff9b
X-WR-TIMEZONE:America/Chicago
BEGIN:VTIMEZONE
TZID:America/Chicago
BEGIN:STANDARD
TZNAME:CST
DTSTART:20201101T020000
TZOFFSETFROM:-0500
TZOFFSETTO:-0600
RDATE:20211107T020000
RDATE:20221106T020000
END:STANDARD
BEGIN:DAYLIGHT
TZNAME:CDT
DTSTART:20210314T020000
TZOFFSETFROM:-0600
TZOFFSETTO:-0500
RDATE:20220313T020000
END:DAYLIGHT
END:VTIMEZONE
BEGIN:VEVENT
UID:be043ffd-f8a5-47b2-b067-fe56246a2f20
DTSTAMP:20260424T121026Z
DESCRIPTION:Health and Nutrition:  Quiz on Health and Nutrition Quiz.  Fast
 est completion and accuracy wins a prize.
DTSTART;TZID=America/Chicago:20210621T150000
DTEND;TZID=America/Chicago:20210621T160000
LOCATION:
SUMMARY:Health and Nutrition: HEALTH & NUTRITION QUIZ
END:VEVENT
END:VCALENDAR
