BEGIN:VCALENDAR
VERSION:2.0
PRODID:-//empowercdc.org//NONSGML kigkonsult.se iCalcreator 2.30.10//
CALSCALE:GREGORIAN
METHOD:PUBLISH
UID:2feadd7b-4ce7-498a-abb1-f592ab1b5bca
X-WR-CALDESC:Arts and Crafts:  DIY Watch It Grow -  Plant your own vegetabl
 e or flower.
X-WR-RELCALID:f02190c9990fc14cc1bb0865e9c791a5
X-WR-TIMEZONE:America/Chicago
BEGIN:VTIMEZONE
TZID:America/Chicago
BEGIN:STANDARD
TZNAME:CST
DTSTART:20201101T020000
TZOFFSETFROM:-0500
TZOFFSETTO:-0600
RDATE:20211107T020000
RDATE:20221106T020000
END:STANDARD
BEGIN:DAYLIGHT
TZNAME:CDT
DTSTART:20210314T020000
TZOFFSETFROM:-0600
TZOFFSETTO:-0500
RDATE:20220313T020000
END:DAYLIGHT
END:VTIMEZONE
BEGIN:VEVENT
UID:58a59172-cc60-4697-8294-8d90bffa9fc4
DTSTAMP:20260424T120533Z
DESCRIPTION:Arts and Crafts:  DIY Watch It Grow -  Plant your own vegetable
  or flower.
DTSTART;TZID=America/Chicago:20210621T170000
DTEND;TZID=America/Chicago:20210621T173000
LOCATION:
SUMMARY:Arts and Crafts:  DIY Watch It Grow
END:VEVENT
END:VCALENDAR
