BEGIN:VCALENDAR
VERSION:2.0
PRODID:-//empowercdc.org//NONSGML kigkonsult.se iCalcreator 2.30.10//
CALSCALE:GREGORIAN
METHOD:PUBLISH
UID:46d21eea-19cf-4f03-b559-bfe3e563302f
X-WR-CALDESC:Outreach and Education Course
X-WR-RELCALID:f830538d01abe66cfec4b35b33079320
X-WR-TIMEZONE:America/Chicago
BEGIN:VTIMEZONE
TZID:America/Chicago
BEGIN:STANDARD
TZNAME:CST
DTSTART:20201101T020000
TZOFFSETFROM:-0500
TZOFFSETTO:-0600
RDATE:20211107T020000
RDATE:20221106T020000
END:STANDARD
BEGIN:DAYLIGHT
TZNAME:CDT
DTSTART:20210314T020000
TZOFFSETFROM:-0600
TZOFFSETTO:-0500
RDATE:20220313T020000
END:DAYLIGHT
END:VTIMEZONE
BEGIN:VEVENT
UID:c2f1defa-c20f-459d-8fad-9c0f079b22dd
DTSTAMP:20260424T120339Z
DESCRIPTION:Outreach and Education Course
DTSTART;TZID=America/Chicago:20210616T140000
DTEND;TZID=America/Chicago:20210616T150000
LOCATION:
SUMMARY:OUTREACH AND EDUCATION
END:VEVENT
END:VCALENDAR
