BEGIN:VCALENDAR
VERSION:2.0
PRODID:-//empowercdc.org//NONSGML kigkonsult.se iCalcreator 2.30.10//
CALSCALE:GREGORIAN
METHOD:PUBLISH
UID:541b96f8-6dc5-4cc1-be54-7159695d5e1f
X-WR-CALDESC:Health and Nutrition:  Quiz on Health and Nutrition Quiz.  Fas
 test completion and accuracy wins a prize.
X-WR-RELCALID:b047125222c620528c554d13c19d73f6
X-WR-TIMEZONE:America/Chicago
BEGIN:VTIMEZONE
TZID:America/Chicago
BEGIN:STANDARD
TZNAME:CST
DTSTART:20201101T020000
TZOFFSETFROM:-0500
TZOFFSETTO:-0600
RDATE:20211107T020000
RDATE:20221106T020000
END:STANDARD
BEGIN:DAYLIGHT
TZNAME:CDT
DTSTART:20210314T020000
TZOFFSETFROM:-0600
TZOFFSETTO:-0500
RDATE:20220313T020000
END:DAYLIGHT
END:VTIMEZONE
BEGIN:VEVENT
UID:32745744-0c08-4dd3-b814-ff14f69c50cd
DTSTAMP:20260424T121026Z
DESCRIPTION:Health and Nutrition:  Quiz on Health and Nutrition Quiz.  Fast
 est completion and accuracy wins a prize.
DTSTART;TZID=America/Chicago:20210616T130000
DTEND;TZID=America/Chicago:20210616T140000
LOCATION:
SUMMARY:Health and Nutrition: HEALTH & NUTRITION QUIZ
END:VEVENT
END:VCALENDAR
