BEGIN:VCALENDAR
VERSION:2.0
PRODID:-//empowercdc.org//NONSGML kigkonsult.se iCalcreator 2.30.10//
CALSCALE:GREGORIAN
METHOD:PUBLISH
UID:b20663e7-05c0-4bc4-b369-7d40519dbb1e
X-WR-CALDESC:Exercise: Walk-n-Talk Program.. Meet with Better Living for Te
 xans (8-week course)
X-WR-RELCALID:6458ff72249b2ceba1d2ff8da915a2d0
X-WR-TIMEZONE:America/Chicago
BEGIN:VTIMEZONE
TZID:America/Chicago
BEGIN:STANDARD
TZNAME:CST
DTSTART:20201101T020000
TZOFFSETFROM:-0500
TZOFFSETTO:-0600
RDATE:20211107T020000
RDATE:20221106T020000
END:STANDARD
BEGIN:DAYLIGHT
TZNAME:CDT
DTSTART:20210314T020000
TZOFFSETFROM:-0600
TZOFFSETTO:-0500
RDATE:20220313T020000
END:DAYLIGHT
END:VTIMEZONE
BEGIN:VEVENT
UID:e46db58e-b5e9-475b-b7ea-9355c9fbce99
DTSTAMP:20260424T120051Z
DESCRIPTION:Exercise: Walk-n-Talk Program.. Meet with Better Living for Tex
 ans (8-week course)
DTSTART;TZID=America/Chicago:20210616T100000
DTEND;TZID=America/Chicago:20210616T110000
LOCATION:
SUMMARY:Exercise:  WALK-n-TALK PROGRAM
END:VEVENT
END:VCALENDAR
