BEGIN:VCALENDAR
VERSION:2.0
PRODID:-//empowercdc.org//NONSGML kigkonsult.se iCalcreator 2.30.10//
CALSCALE:GREGORIAN
METHOD:PUBLISH
UID:a45a2ac9-1433-48fe-8362-04ffed0770c0
X-WR-CALDESC:Want to do some shopping?  Need a Ride... Kroger is the locati
 on.
X-WR-RELCALID:7eac58d41dd299442dfd908b078c221a
X-WR-TIMEZONE:America/Chicago
BEGIN:VTIMEZONE
TZID:America/Chicago
BEGIN:STANDARD
TZNAME:CST
DTSTART:20201101T020000
TZOFFSETFROM:-0500
TZOFFSETTO:-0600
RDATE:20211107T020000
RDATE:20221106T020000
END:STANDARD
BEGIN:DAYLIGHT
TZNAME:CDT
DTSTART:20210314T020000
TZOFFSETFROM:-0600
TZOFFSETTO:-0500
RDATE:20220313T020000
END:DAYLIGHT
END:VTIMEZONE
BEGIN:VEVENT
UID:34120cff-9511-4623-afb4-8a68de13d015
DTSTAMP:20260424T120057Z
DESCRIPTION:Want to do some shopping?  Need a Ride... Kroger is the locatio
 n.
DTSTART;TZID=America/Chicago:20210615T093000
DTEND;TZID=America/Chicago:20210615T103000
LOCATION:
SUMMARY:Transportation:  KROGER
END:VEVENT
END:VCALENDAR
