BEGIN:VCALENDAR
VERSION:2.0
PRODID:-//empowercdc.org//NONSGML kigkonsult.se iCalcreator 2.30.10//
CALSCALE:GREGORIAN
METHOD:PUBLISH
UID:e16ceddc-e504-4d73-8433-351a242cdeb2
X-WR-CALDESC:Financial Planning Course designed to help you focus on your m
 oney and making the best use of it.
X-WR-RELCALID:9d29dd56a48ebac5e450c94732f75599
X-WR-TIMEZONE:America/Chicago
BEGIN:VTIMEZONE
TZID:America/Chicago
BEGIN:STANDARD
TZNAME:CST
DTSTART:20201101T020000
TZOFFSETFROM:-0500
TZOFFSETTO:-0600
RDATE:20211107T020000
RDATE:20221106T020000
END:STANDARD
BEGIN:DAYLIGHT
TZNAME:CDT
DTSTART:20210314T020000
TZOFFSETFROM:-0600
TZOFFSETTO:-0500
RDATE:20220313T020000
END:DAYLIGHT
END:VTIMEZONE
BEGIN:VEVENT
UID:ada9e60d-58e4-48bd-81a6-f25d652c2158
DTSTAMP:20260424T120442Z
DESCRIPTION:Financial Planning Course designed to help you focus on your mo
 ney and making the best use of it.
DTSTART;TZID=America/Chicago:20210614T150000
DTEND;TZID=America/Chicago:20210614T160000
LOCATION:
SUMMARY:Financial Planning:  Dollars and Sense
END:VEVENT
END:VCALENDAR
