BEGIN:VCALENDAR
VERSION:2.0
PRODID:-//empowercdc.org//NONSGML kigkonsult.se iCalcreator 2.30.10//
CALSCALE:GREGORIAN
METHOD:PUBLISH
UID:b914046c-0305-4f67-9f16-13df6490fb97
X-WR-CALDESC:Birthday Social... Cupcakes\, Ice Cream\, Music\, Fun...Photos
 .
X-WR-RELCALID:8ba5178a9c36b6b5ef2b95f1a9d2b507
X-WR-TIMEZONE:America/Chicago
BEGIN:VTIMEZONE
TZID:America/Chicago
BEGIN:STANDARD
TZNAME:CST
DTSTART:20201101T020000
TZOFFSETFROM:-0500
TZOFFSETTO:-0600
RDATE:20211107T020000
RDATE:20221106T020000
END:STANDARD
BEGIN:DAYLIGHT
TZNAME:CDT
DTSTART:20210314T020000
TZOFFSETFROM:-0600
TZOFFSETTO:-0500
RDATE:20220313T020000
END:DAYLIGHT
END:VTIMEZONE
BEGIN:VEVENT
UID:90c78ef2-475e-42f0-a742-42b500e3a70c
DTSTAMP:20260424T120333Z
DESCRIPTION:Birthday Social... Cupcakes\, Ice Cream\, Music\, Fun...Photos.
DTSTART;TZID=America/Chicago:20210614T160000
DTEND;TZID=America/Chicago:20210614T170000
LOCATION:
SUMMARY:Birthday Social
END:VEVENT
END:VCALENDAR
