BEGIN:VCALENDAR
VERSION:2.0
PRODID:-//empowercdc.org//NONSGML kigkonsult.se iCalcreator 2.30.10//
CALSCALE:GREGORIAN
METHOD:PUBLISH
UID:3639f78b-a682-45e9-a79c-a15613022607
X-WR-CALDESC:Arts and Crafts:  DIY Watch It Grow -  Plant your own vegetabl
 e or flower.
X-WR-RELCALID:16e39403b33d2edf17669aba93e91f83
X-WR-TIMEZONE:America/Chicago
BEGIN:VTIMEZONE
TZID:America/Chicago
BEGIN:STANDARD
TZNAME:CST
DTSTART:20201101T020000
TZOFFSETFROM:-0500
TZOFFSETTO:-0600
RDATE:20211107T020000
RDATE:20221106T020000
END:STANDARD
BEGIN:DAYLIGHT
TZNAME:CDT
DTSTART:20210314T020000
TZOFFSETFROM:-0600
TZOFFSETTO:-0500
RDATE:20220313T020000
END:DAYLIGHT
END:VTIMEZONE
BEGIN:VEVENT
UID:b2bc41f7-dcee-4e50-8f12-2bf8ad5e23fb
DTSTAMP:20260424T121916Z
DESCRIPTION:Arts and Crafts:  DIY Watch It Grow -  Plant your own vegetable
  or flower.
DTSTART;TZID=America/Chicago:20210614T163000
DTEND;TZID=America/Chicago:20210614T173000
LOCATION:
SUMMARY:Arts and Crafts:  DIY Watch It Grow
END:VEVENT
END:VCALENDAR
