BEGIN:VCALENDAR
VERSION:2.0
PRODID:-//empowercdc.org//NONSGML kigkonsult.se iCalcreator 2.30.10//
CALSCALE:GREGORIAN
METHOD:PUBLISH
UID:18689d51-b9c4-43df-9535-3544a7df0778
X-WR-CALDESC:Birthday Social... Cupcakes\, Ice Cream\, Music\, Fun...Photos
 .\n
X-WR-RELCALID:39415060e61815e3ce8e2de3923b6468
X-WR-TIMEZONE:America/Chicago
BEGIN:VTIMEZONE
TZID:America/Chicago
BEGIN:STANDARD
TZNAME:CST
DTSTART:20201101T020000
TZOFFSETFROM:-0500
TZOFFSETTO:-0600
RDATE:20211107T020000
RDATE:20221106T020000
END:STANDARD
BEGIN:DAYLIGHT
TZNAME:CDT
DTSTART:20210314T020000
TZOFFSETFROM:-0600
TZOFFSETTO:-0500
RDATE:20220313T020000
END:DAYLIGHT
END:VTIMEZONE
BEGIN:VEVENT
UID:db851898-4adf-481a-9265-e83127a93de2
DTSTAMP:20260424T120334Z
DESCRIPTION:Birthday Social... Cupcakes\, Ice Cream\, Music\, Fun...Photos.
 \n
DTSTART;TZID=America/Chicago:20210609T140000
DTEND;TZID=America/Chicago:20210609T150000
LOCATION:
SUMMARY:Birthday Social
END:VEVENT
END:VCALENDAR
