BEGIN:VCALENDAR
VERSION:2.0
PRODID:-//empowercdc.org//NONSGML kigkonsult.se iCalcreator 2.30.10//
CALSCALE:GREGORIAN
METHOD:PUBLISH
UID:b04650c1-5fce-4e79-a92c-56a94773b1ab
X-WR-CALDESC:Exercise: Walk-n-Talk Program.. Meet with Better Living for Te
 xans (8-week course)
X-WR-RELCALID:9dc98c6574f4b265e87c20607096d25c
X-WR-TIMEZONE:America/Chicago
BEGIN:VTIMEZONE
TZID:America/Chicago
BEGIN:STANDARD
TZNAME:CST
DTSTART:20201101T020000
TZOFFSETFROM:-0500
TZOFFSETTO:-0600
RDATE:20211107T020000
RDATE:20221106T020000
END:STANDARD
BEGIN:DAYLIGHT
TZNAME:CDT
DTSTART:20210314T020000
TZOFFSETFROM:-0600
TZOFFSETTO:-0500
RDATE:20220313T020000
END:DAYLIGHT
END:VTIMEZONE
BEGIN:VEVENT
UID:531065c1-8d88-4b27-896f-fdb1e6ebbb96
DTSTAMP:20260424T120036Z
DESCRIPTION:Exercise: Walk-n-Talk Program.. Meet with Better Living for Tex
 ans (8-week course)
DTSTART;TZID=America/Chicago:20210609T100000
DTEND;TZID=America/Chicago:20210609T110000
LOCATION:
SUMMARY:Exercise:  WALK-n-TALK PROGRAM
END:VEVENT
END:VCALENDAR
