BEGIN:VCALENDAR
VERSION:2.0
PRODID:-//empowercdc.org//NONSGML kigkonsult.se iCalcreator 2.30.10//
CALSCALE:GREGORIAN
METHOD:PUBLISH
UID:b7c23121-3735-4542-a3e4-c6d08923e8a3
X-WR-CALDESC:Financial Planning Course designed to help you focus on your m
 oney and making the best use of it.  BINGO!!!
X-WR-RELCALID:9899f5d0bb0fcf2aa3edccd9b389cded
X-WR-TIMEZONE:America/Chicago
BEGIN:VTIMEZONE
TZID:America/Chicago
BEGIN:STANDARD
TZNAME:CST
DTSTART:20201101T020000
TZOFFSETFROM:-0500
TZOFFSETTO:-0600
RDATE:20211107T020000
RDATE:20221106T020000
END:STANDARD
BEGIN:DAYLIGHT
TZNAME:CDT
DTSTART:20210314T020000
TZOFFSETFROM:-0600
TZOFFSETTO:-0500
RDATE:20220313T020000
END:DAYLIGHT
END:VTIMEZONE
BEGIN:VEVENT
UID:e4c90b76-61d8-4940-aaaa-c7d5cf547770
DTSTAMP:20260424T120442Z
DESCRIPTION:Financial Planning Course designed to help you focus on your mo
 ney and making the best use of it.  BINGO!!!
DTSTART;TZID=America/Chicago:20210608T150000
DTEND;TZID=America/Chicago:20210608T160000
LOCATION:
SUMMARY:Financial Planning: Financial Bingo
END:VEVENT
END:VCALENDAR
