BEGIN:VCALENDAR
VERSION:2.0
PRODID:-//empowercdc.org//NONSGML kigkonsult.se iCalcreator 2.30.10//
CALSCALE:GREGORIAN
METHOD:PUBLISH
UID:acdba19a-8d07-4ef9-8edc-63151a6325c9
X-WR-CALDESC:Birthday Social... Cupcakes\, Ice Cream\, Music\, Fun...Photos
 .\n
X-WR-RELCALID:2e0ec73c5fd8c29264bdc3a2407327ae
X-WR-TIMEZONE:America/Chicago
BEGIN:VTIMEZONE
TZID:America/Chicago
BEGIN:STANDARD
TZNAME:CST
DTSTART:20201101T020000
TZOFFSETFROM:-0500
TZOFFSETTO:-0600
RDATE:20211107T020000
RDATE:20221106T020000
END:STANDARD
BEGIN:DAYLIGHT
TZNAME:CDT
DTSTART:20210314T020000
TZOFFSETFROM:-0600
TZOFFSETTO:-0500
RDATE:20220313T020000
END:DAYLIGHT
END:VTIMEZONE
BEGIN:VEVENT
UID:25b473d7-622a-4b24-85be-ba849de7cb0e
DTSTAMP:20260424T120237Z
DESCRIPTION:Birthday Social... Cupcakes\, Ice Cream\, Music\, Fun...Photos.
 \n
DTSTART;TZID=America/Chicago:20210608T140000
DTEND;TZID=America/Chicago:20210608T150000
LOCATION:
SUMMARY:Birthday Social
END:VEVENT
END:VCALENDAR
