BEGIN:VCALENDAR
VERSION:2.0
PRODID:-//empowercdc.org//NONSGML kigkonsult.se iCalcreator 2.30.10//
CALSCALE:GREGORIAN
METHOD:PUBLISH
UID:913ef975-9f36-415f-a709-9b824b9c12f0
X-WR-CALDESC:Arts and Crafts:  DIY Mandela.  Enjoy the art of coloring your
  own Mosaic piece.
X-WR-RELCALID:f9e1cbc7b468abd72db381f10e4b796f
X-WR-TIMEZONE:America/Chicago
BEGIN:VTIMEZONE
TZID:America/Chicago
BEGIN:STANDARD
TZNAME:CST
DTSTART:20201101T020000
TZOFFSETFROM:-0500
TZOFFSETTO:-0600
RDATE:20211107T020000
RDATE:20221106T020000
END:STANDARD
BEGIN:DAYLIGHT
TZNAME:CDT
DTSTART:20210314T020000
TZOFFSETFROM:-0600
TZOFFSETTO:-0500
RDATE:20220313T020000
END:DAYLIGHT
END:VTIMEZONE
BEGIN:VEVENT
UID:62dfaf62-7a78-421a-b519-933ae2754f79
DTSTAMP:20260424T120458Z
DESCRIPTION:Arts and Crafts:  DIY Mandela.  Enjoy the art of coloring your 
 own Mosaic piece.
DTSTART;TZID=America/Chicago:20210608T160000
DTEND;TZID=America/Chicago:20210608T170000
LOCATION:
SUMMARY:Arts and Crafts:  DIY Mandela
END:VEVENT
END:VCALENDAR
