BEGIN:VCALENDAR
VERSION:2.0
PRODID:-//empowercdc.org//NONSGML kigkonsult.se iCalcreator 2.30.10//
CALSCALE:GREGORIAN
METHOD:PUBLISH
UID:3e5a0937-9e87-4baa-bf8f-bc1e39a4237b
X-WR-CALDESC:Want to do some shopping?  Need a Ride... Walmart is the locat
 ion.
X-WR-RELCALID:f898382632090eac174af6315880deea
X-WR-TIMEZONE:America/Chicago
BEGIN:VTIMEZONE
TZID:America/Chicago
BEGIN:STANDARD
TZNAME:CST
DTSTART:20201101T020000
TZOFFSETFROM:-0500
TZOFFSETTO:-0600
RDATE:20211107T020000
RDATE:20221106T020000
END:STANDARD
BEGIN:DAYLIGHT
TZNAME:CDT
DTSTART:20210314T020000
TZOFFSETFROM:-0600
TZOFFSETTO:-0500
RDATE:20220313T020000
END:DAYLIGHT
END:VTIMEZONE
BEGIN:VEVENT
UID:72b2bfec-ee0e-434f-9817-9d7d111d296e
DTSTAMP:20260424T120113Z
DESCRIPTION:Want to do some shopping?  Need a Ride... Walmart is the locati
 on.
DTSTART;TZID=America/Chicago:20210607T093000
DTEND;TZID=America/Chicago:20210607T103000
LOCATION:
SUMMARY:Transportation:  WALMART
END:VEVENT
END:VCALENDAR
