BEGIN:VCALENDAR
VERSION:2.0
PRODID:-//empowercdc.org//NONSGML kigkonsult.se iCalcreator 2.30.10//
CALSCALE:GREGORIAN
METHOD:PUBLISH
UID:7e301833-929a-44d5-a5ca-9058091b5034
X-WR-CALDESC:CHARACTER BUILDING: Character Building Course on SELF CONTROL
X-WR-RELCALID:a1138b727e2504a8caca84346fac872a
X-WR-TIMEZONE:America/Chicago
BEGIN:VTIMEZONE
TZID:America/Chicago
BEGIN:STANDARD
TZNAME:CST
DTSTART:20201101T020000
TZOFFSETFROM:-0500
TZOFFSETTO:-0600
RDATE:20211107T020000
RDATE:20221106T020000
END:STANDARD
BEGIN:DAYLIGHT
TZNAME:CDT
DTSTART:20210314T020000
TZOFFSETFROM:-0600
TZOFFSETTO:-0500
RDATE:20220313T020000
END:DAYLIGHT
END:VTIMEZONE
BEGIN:VEVENT
UID:77e4ca32-8041-4abe-8283-6b0c639d56c1
DTSTAMP:20260424T115926Z
DESCRIPTION:CHARACTER BUILDING: Character Building Course on SELF CONTROL
DTSTART;TZID=America/Chicago:20210607T160000
DTEND;TZID=America/Chicago:20210607T170000
LOCATION:
SUMMARY:Character Building:  SELF CONTROL
END:VEVENT
END:VCALENDAR
