BEGIN:VCALENDAR
VERSION:2.0
PRODID:-//empowercdc.org//NONSGML kigkonsult.se iCalcreator 2.30.10//
CALSCALE:GREGORIAN
METHOD:PUBLISH
UID:0fcc12c4-109f-405b-935b-121c4a71b7f9
X-WR-CALDESC:Birthday Social... Cupcakes\, Ice Cream\, Music\, Fun...Photos
 .
X-WR-RELCALID:53fbd7f63ef23add913d8540f40469a0
X-WR-TIMEZONE:America/Chicago
BEGIN:VTIMEZONE
TZID:America/Chicago
BEGIN:STANDARD
TZNAME:CST
DTSTART:20201101T020000
TZOFFSETFROM:-0500
TZOFFSETTO:-0600
RDATE:20211107T020000
RDATE:20221106T020000
END:STANDARD
BEGIN:DAYLIGHT
TZNAME:CDT
DTSTART:20210314T020000
TZOFFSETFROM:-0600
TZOFFSETTO:-0500
RDATE:20220313T020000
END:DAYLIGHT
END:VTIMEZONE
BEGIN:VEVENT
UID:d1bc2179-a7b5-4b75-bfc6-5b72e4db194c
DTSTAMP:20260424T120256Z
DESCRIPTION:Birthday Social... Cupcakes\, Ice Cream\, Music\, Fun...Photos.
DTSTART;TZID=America/Chicago:20210607T150000
DTEND;TZID=America/Chicago:20210607T160000
LOCATION:
SUMMARY:Birthday Social
END:VEVENT
END:VCALENDAR
