BEGIN:VCALENDAR
VERSION:2.0
PRODID:-//empowercdc.org//NONSGML kigkonsult.se iCalcreator 2.30.10//
CALSCALE:GREGORIAN
METHOD:PUBLISH
UID:4f29ecc2-6710-4051-bee9-ec55cd56ae39
X-WR-CALDESC:
X-WR-RELCALID:160e24c472ab55a5e0237cf0147f9f89
X-WR-TIMEZONE:America/Chicago
BEGIN:VTIMEZONE
TZID:America/Chicago
BEGIN:STANDARD
TZNAME:CST
DTSTART:20201101T020000
TZOFFSETFROM:-0500
TZOFFSETTO:-0600
RDATE:20211107T020000
RDATE:20221106T020000
END:STANDARD
BEGIN:DAYLIGHT
TZNAME:CDT
DTSTART:20210314T020000
TZOFFSETFROM:-0600
TZOFFSETTO:-0500
RDATE:20220313T020000
END:DAYLIGHT
END:VTIMEZONE
BEGIN:VEVENT
UID:3f8c6183-508d-43a6-8ac0-b2a697f856f5
DTSTAMP:20260424T133039Z
DESCRIPTION:
DTSTART;TZID=America/Chicago:20210528T110000
DTEND;TZID=America/Chicago:20210528T120000
LOCATION:
SUMMARY:Joyfully Healthy
END:VEVENT
END:VCALENDAR
