BEGIN:VCALENDAR
VERSION:2.0
PRODID:-//empowercdc.org//NONSGML kigkonsult.se iCalcreator 2.30.10//
CALSCALE:GREGORIAN
METHOD:PUBLISH
UID:5a740aca-abe1-49c2-ab87-451416334aef
X-WR-CALDESC:
X-WR-RELCALID:7fb0cb78357a23e09427a897e7df259c
X-WR-TIMEZONE:America/Chicago
BEGIN:VTIMEZONE
TZID:America/Chicago
BEGIN:STANDARD
TZNAME:CST
DTSTART:20201101T020000
TZOFFSETFROM:-0500
TZOFFSETTO:-0600
RDATE:20211107T020000
RDATE:20221106T020000
END:STANDARD
BEGIN:DAYLIGHT
TZNAME:CDT
DTSTART:20210314T020000
TZOFFSETFROM:-0600
TZOFFSETTO:-0500
RDATE:20220313T020000
END:DAYLIGHT
END:VTIMEZONE
BEGIN:VEVENT
UID:c21ea4de-daec-40d2-8c6d-bc45287f07e1
DTSTAMP:20260424T134450Z
DESCRIPTION:
DTSTART;TZID=America/Chicago:20210527T140000
DTEND;TZID=America/Chicago:20210527T170000
LOCATION:
SUMMARY:Let's Get Crafty
END:VEVENT
END:VCALENDAR
