BEGIN:VCALENDAR
VERSION:2.0
PRODID:-//empowercdc.org//NONSGML kigkonsult.se iCalcreator 2.30.10//
CALSCALE:GREGORIAN
METHOD:PUBLISH
UID:411f5cb8-df86-43c9-8aa4-643cd72c0640
X-WR-CALDESC:Providence at Kuykendahl Court
X-WR-RELCALID:0a0549814afc4f14f656445bc5b90476
X-WR-TIMEZONE:America/Chicago
BEGIN:VTIMEZONE
TZID:America/Chicago
BEGIN:STANDARD
TZNAME:CST
DTSTART:20201101T020000
TZOFFSETFROM:-0500
TZOFFSETTO:-0600
RDATE:20211107T020000
RDATE:20221106T020000
END:STANDARD
BEGIN:DAYLIGHT
TZNAME:CDT
DTSTART:20210314T020000
TZOFFSETFROM:-0600
TZOFFSETTO:-0500
RDATE:20220313T020000
END:DAYLIGHT
END:VTIMEZONE
BEGIN:VEVENT
UID:a2115211-915e-401a-8959-017126fa94ef
DTSTAMP:20260424T133222Z
DESCRIPTION:Providence at Kuykendahl Court
DTSTART;TZID=America/Chicago:20210519T150000
DTEND;TZID=America/Chicago:20210519T160000
LOCATION:
SUMMARY:DIY Velvet Posters
END:VEVENT
END:VCALENDAR
