BEGIN:VCALENDAR
VERSION:2.0
PRODID:-//empowercdc.org//NONSGML kigkonsult.se iCalcreator 2.30.10//
CALSCALE:GREGORIAN
METHOD:PUBLISH
UID:a3b1166c-8a2d-4fb0-bd9a-2bb0491859ca
X-WR-CALDESC:
X-WR-RELCALID:dff72deb468f12fc6d2655515d9ee36a
X-WR-TIMEZONE:America/Chicago
BEGIN:VTIMEZONE
TZID:America/Chicago
BEGIN:STANDARD
TZNAME:CST
DTSTART:20201101T020000
TZOFFSETFROM:-0500
TZOFFSETTO:-0600
RDATE:20211107T020000
RDATE:20221106T020000
END:STANDARD
BEGIN:DAYLIGHT
TZNAME:CDT
DTSTART:20210314T020000
TZOFFSETFROM:-0600
TZOFFSETTO:-0500
RDATE:20220313T020000
END:DAYLIGHT
END:VTIMEZONE
BEGIN:VEVENT
UID:ad133b15-d8cc-4f9f-9b11-75246d0aadc8
DTSTAMP:20260424T134153Z
DESCRIPTION:
DTSTART;TZID=America/Chicago:20210517T160000
DTEND;TZID=America/Chicago:20210517T170000
LOCATION:
SUMMARY:Birthday Social
END:VEVENT
END:VCALENDAR
