BEGIN:VCALENDAR
VERSION:2.0
PRODID:-//empowercdc.org//NONSGML kigkonsult.se iCalcreator 2.30.10//
CALSCALE:GREGORIAN
METHOD:PUBLISH
UID:90ed44c0-f6a8-4c6e-8a32-0a8bc1dc5d7f
X-WR-CALDESC:
X-WR-RELCALID:cf319062c939b088dafe189dca900825
X-WR-TIMEZONE:America/Chicago
BEGIN:VTIMEZONE
TZID:America/Chicago
BEGIN:STANDARD
TZNAME:CST
DTSTART:20201101T020000
TZOFFSETFROM:-0500
TZOFFSETTO:-0600
RDATE:20211107T020000
RDATE:20221106T020000
END:STANDARD
BEGIN:DAYLIGHT
TZNAME:CDT
DTSTART:20210314T020000
TZOFFSETFROM:-0600
TZOFFSETTO:-0500
RDATE:20220313T020000
END:DAYLIGHT
END:VTIMEZONE
BEGIN:VEVENT
UID:64873b66-6a09-4246-8913-27c6103c5286
DTSTAMP:20260424T133355Z
DESCRIPTION:
DTSTART;TZID=America/Chicago:20210514T110000
DTEND;TZID=America/Chicago:20210514T120000
LOCATION:
SUMMARY:Joyfully Healthy
END:VEVENT
END:VCALENDAR
