BEGIN:VCALENDAR
VERSION:2.0
PRODID:-//empowercdc.org//NONSGML kigkonsult.se iCalcreator 2.30.10//
CALSCALE:GREGORIAN
METHOD:PUBLISH
UID:adca454f-a090-418a-8445-b4ee53b821fb
X-WR-CALDESC:Enjoy Cookies and Punch with your neighbors.
X-WR-RELCALID:db8ed45621a8df76885b123d5de3b7f5
X-WR-TIMEZONE:America/Chicago
BEGIN:VTIMEZONE
TZID:America/Chicago
BEGIN:STANDARD
TZNAME:CST
DTSTART:20201101T020000
TZOFFSETFROM:-0500
TZOFFSETTO:-0600
RDATE:20211107T020000
RDATE:20221106T020000
END:STANDARD
BEGIN:DAYLIGHT
TZNAME:CDT
DTSTART:20210314T020000
TZOFFSETFROM:-0600
TZOFFSETTO:-0500
RDATE:20220313T020000
END:DAYLIGHT
END:VTIMEZONE
BEGIN:VEVENT
UID:3c11a539-45db-48cd-ac33-a242c37c65bd
DTSTAMP:20260424T131751Z
DESCRIPTION:Enjoy Cookies and Punch with your neighbors.
DTSTART;TZID=America/Chicago:20210512T140000
DTEND;TZID=America/Chicago:20210512T150000
LOCATION:
SUMMARY:Meet and Greet
END:VEVENT
END:VCALENDAR
