BEGIN:VCALENDAR
VERSION:2.0
PRODID:-//empowercdc.org//NONSGML kigkonsult.se iCalcreator 2.30.10//
CALSCALE:GREGORIAN
METHOD:PUBLISH
UID:053eb4b8-ae4d-49f1-b64b-4cdbf5b68504
X-WR-CALDESC:
X-WR-RELCALID:0d8d5c3f7d6f930cfbcede2967b6d010
X-WR-TIMEZONE:America/Chicago
BEGIN:VTIMEZONE
TZID:America/Chicago
BEGIN:STANDARD
TZNAME:CST
DTSTART:20201101T020000
TZOFFSETFROM:-0500
TZOFFSETTO:-0600
RDATE:20211107T020000
RDATE:20221106T020000
END:STANDARD
BEGIN:DAYLIGHT
TZNAME:CDT
DTSTART:20210314T020000
TZOFFSETFROM:-0600
TZOFFSETTO:-0500
RDATE:20220313T020000
END:DAYLIGHT
END:VTIMEZONE
BEGIN:VEVENT
UID:c64fdf7a-1d8c-4f8d-972d-b98c7061ca5a
DTSTAMP:20260424T132748Z
DESCRIPTION:
DTSTART;TZID=America/Chicago:20210510T150000
DTEND;TZID=America/Chicago:20210510T160000
LOCATION:
SUMMARY:Meet and Greet
END:VEVENT
END:VCALENDAR
