BEGIN:VCALENDAR
VERSION:2.0
PRODID:-//empowercdc.org//NONSGML kigkonsult.se iCalcreator 2.30.10//
CALSCALE:GREGORIAN
METHOD:PUBLISH
UID:da9044b2-e005-41d0-95bc-14ef8022902f
X-WR-CALDESC:Virtual Video on understanding and dealing with Mental Health
X-WR-RELCALID:7874cafb6c2e237de0366f321d57037a
X-WR-TIMEZONE:America/Chicago
BEGIN:VTIMEZONE
TZID:America/Chicago
BEGIN:STANDARD
TZNAME:CST
DTSTART:20201101T020000
TZOFFSETFROM:-0500
TZOFFSETTO:-0600
RDATE:20211107T020000
END:STANDARD
BEGIN:DAYLIGHT
TZNAME:CDT
DTSTART:20210314T020000
TZOFFSETFROM:-0600
TZOFFSETTO:-0500
RDATE:20220313T020000
END:DAYLIGHT
END:VTIMEZONE
BEGIN:VEVENT
UID:876a2f34-7b5e-4c6e-a4fc-892cf9703913
DTSTAMP:20260424T135207Z
DESCRIPTION:Virtual Video on understanding and dealing with Mental Health
DTSTART;TZID=America/Chicago:20210506T173000
DTEND;TZID=America/Chicago:20210506T183000
LOCATION:
SUMMARY:Mental Health Matters (Virtual)
END:VEVENT
END:VCALENDAR
