BEGIN:VCALENDAR
VERSION:2.0
PRODID:-//empowercdc.org//NONSGML kigkonsult.se iCalcreator 2.30.10//
CALSCALE:GREGORIAN
METHOD:PUBLISH
UID:920fea89-6df7-4f62-845e-9e2e437bba97
X-WR-CALDESC:Virtual Course
X-WR-RELCALID:18c10d7cf124f07c8aeeec6b4618dcf0
X-WR-TIMEZONE:America/Chicago
BEGIN:VTIMEZONE
TZID:America/Chicago
BEGIN:STANDARD
TZNAME:CST
DTSTART:20201101T020000
TZOFFSETFROM:-0500
TZOFFSETTO:-0600
RDATE:20211107T020000
END:STANDARD
BEGIN:DAYLIGHT
TZNAME:CDT
DTSTART:20210314T020000
TZOFFSETFROM:-0600
TZOFFSETTO:-0500
RDATE:20220313T020000
END:DAYLIGHT
END:VTIMEZONE
BEGIN:VEVENT
UID:dfb42cda-b072-4fc8-8bf5-64b5eb27d1fe
DTSTAMP:20260424T135041Z
DESCRIPTION:Virtual Course
DTSTART;TZID=America/Chicago:20210506T173000
DTEND;TZID=America/Chicago:20210506T183000
LOCATION:
SUMMARY:Character Building: Mental Health Awareness
END:VEVENT
END:VCALENDAR
