BEGIN:VCALENDAR
VERSION:2.0
PRODID:-//empowercdc.org//NONSGML kigkonsult.se iCalcreator 2.30.10//
CALSCALE:GREGORIAN
METHOD:PUBLISH
UID:f19a5a30-8ceb-40ce-bcb2-38d0c561bcc4
X-WR-CALDESC:
X-WR-RELCALID:3af0dfc8fbaad26ef1eb91126449a685
X-WR-TIMEZONE:America/Chicago
BEGIN:VTIMEZONE
TZID:America/Chicago
BEGIN:STANDARD
TZNAME:CST
DTSTART:20201101T020000
TZOFFSETFROM:-0500
TZOFFSETTO:-0600
RDATE:20211107T020000
END:STANDARD
BEGIN:DAYLIGHT
TZNAME:CDT
DTSTART:20210314T020000
TZOFFSETFROM:-0600
TZOFFSETTO:-0500
RDATE:20220313T020000
END:DAYLIGHT
END:VTIMEZONE
BEGIN:VEVENT
UID:cacc1822-45a8-4abc-82e1-4349d935a7da
DTSTAMP:20260424T135213Z
DESCRIPTION:
DTSTART;TZID=America/Chicago:20210506T140000
DTEND;TZID=America/Chicago:20210506T170000
LOCATION:
SUMMARY:Let's Get Crafty
END:VEVENT
END:VCALENDAR
