BEGIN:VCALENDAR
VERSION:2.0
PRODID:-//empowercdc.org//NONSGML kigkonsult.se iCalcreator 2.30.10//
CALSCALE:GREGORIAN
METHOD:PUBLISH
UID:c46dd9b8-8706-479e-9df1-2acdd556b3ba
X-WR-CALDESC:
X-WR-RELCALID:d9ef4e33236997dd9658a0bbbfdebfe5
X-WR-TIMEZONE:America/Chicago
BEGIN:VTIMEZONE
TZID:America/Chicago
BEGIN:STANDARD
TZNAME:CST
DTSTART:20201101T020000
TZOFFSETFROM:-0500
TZOFFSETTO:-0600
RDATE:20211107T020000
END:STANDARD
BEGIN:DAYLIGHT
TZNAME:CDT
DTSTART:20210314T020000
TZOFFSETFROM:-0600
TZOFFSETTO:-0500
RDATE:20220313T020000
END:DAYLIGHT
END:VTIMEZONE
BEGIN:VEVENT
UID:7bc885f8-f683-4b2b-bb79-dbd854d512f4
DTSTAMP:20260424T133517Z
DESCRIPTION:
DTSTART;TZID=America/Chicago:20210504T130000
DTEND;TZID=America/Chicago:20210504T140000
LOCATION:
SUMMARY:Meet and Greet
END:VEVENT
END:VCALENDAR
