BEGIN:VCALENDAR
VERSION:2.0
PRODID:-//empowercdc.org//NONSGML kigkonsult.se iCalcreator 2.30.10//
CALSCALE:GREGORIAN
METHOD:PUBLISH
UID:06d12742-d79d-4486-877b-cb48b3ce6d13
X-WR-CALDESC:
X-WR-RELCALID:a4433f8246af5bf463a4204dfd2cc241
X-WR-TIMEZONE:America/Chicago
BEGIN:VTIMEZONE
TZID:America/Chicago
BEGIN:STANDARD
TZNAME:CST
DTSTART:20201101T020000
TZOFFSETFROM:-0500
TZOFFSETTO:-0600
RDATE:20211107T020000
END:STANDARD
BEGIN:DAYLIGHT
TZNAME:CDT
DTSTART:20210314T020000
TZOFFSETFROM:-0600
TZOFFSETTO:-0500
RDATE:20220313T020000
END:DAYLIGHT
END:VTIMEZONE
BEGIN:VEVENT
UID:fd8152c7-c352-464d-abbc-096a72e0453d
DTSTAMP:20260424T134849Z
DESCRIPTION:
DTSTART;TZID=America/Chicago:20210504T140000
DTEND;TZID=America/Chicago:20210504T150000
LOCATION:
SUMMARY:DIY Bandana Mask w/ BINGO
END:VEVENT
END:VCALENDAR
