BEGIN:VCALENDAR
VERSION:2.0
PRODID:-//empowercdc.org//NONSGML kigkonsult.se iCalcreator 2.30.10//
CALSCALE:GREGORIAN
METHOD:PUBLISH
UID:9b901f11-77f2-405d-a492-5bdceea34aa9
X-WR-CALDESC:
X-WR-RELCALID:9d0b661cab05b7deeb35cab37c148069
X-WR-TIMEZONE:America/Chicago
BEGIN:VTIMEZONE
TZID:America/Chicago
BEGIN:STANDARD
TZNAME:CST
DTSTART:20201101T020000
TZOFFSETFROM:-0500
TZOFFSETTO:-0600
RDATE:20211107T020000
END:STANDARD
BEGIN:DAYLIGHT
TZNAME:CDT
DTSTART:20210314T020000
TZOFFSETFROM:-0600
TZOFFSETTO:-0500
RDATE:20220313T020000
END:DAYLIGHT
END:VTIMEZONE
BEGIN:VEVENT
UID:8d7a1db5-9d66-46b3-ab3d-1901369cea6f
DTSTAMP:20260424T145911Z
DESCRIPTION:
DTSTART;TZID=America/Chicago:20210430T160000
DTEND;TZID=America/Chicago:20210430T170000
LOCATION:
SUMMARY:Birthday Social
END:VEVENT
END:VCALENDAR
