BEGIN:VCALENDAR
VERSION:2.0
PRODID:-//empowercdc.org//NONSGML kigkonsult.se iCalcreator 2.30.10//
CALSCALE:GREGORIAN
METHOD:PUBLISH
UID:f28dcf94-692f-4a01-b5d1-d70c2227b751
X-WR-CALDESC:
X-WR-RELCALID:aa428e01cd70e4bbe8a74f32d3939d9e
X-WR-TIMEZONE:America/Chicago
BEGIN:VTIMEZONE
TZID:America/Chicago
BEGIN:STANDARD
TZNAME:CST
DTSTART:20201101T020000
TZOFFSETFROM:-0500
TZOFFSETTO:-0600
RDATE:20211107T020000
END:STANDARD
BEGIN:DAYLIGHT
TZNAME:CDT
DTSTART:20210314T020000
TZOFFSETFROM:-0600
TZOFFSETTO:-0500
RDATE:20220313T020000
END:DAYLIGHT
END:VTIMEZONE
BEGIN:VEVENT
UID:ec4ae842-9514-4da1-bc34-05cbf8eaf5e6
DTSTAMP:20260424T150106Z
DESCRIPTION:
DTSTART;TZID=America/Chicago:20210430T120000
DTEND;TZID=America/Chicago:20210430T130000
LOCATION:
SUMMARY:Weekly Senior Trips
END:VEVENT
END:VCALENDAR
