BEGIN:VCALENDAR
VERSION:2.0
PRODID:-//empowercdc.org//NONSGML kigkonsult.se iCalcreator 2.30.10//
CALSCALE:GREGORIAN
METHOD:PUBLISH
UID:8f267f42-b39b-4975-8197-be974276a1a6
X-WR-CALDESC:
X-WR-RELCALID:0855c179f64f037dbc413dd84b1dd15a
X-WR-TIMEZONE:America/Chicago
BEGIN:VTIMEZONE
TZID:America/Chicago
BEGIN:STANDARD
TZNAME:CST
DTSTART:20201101T020000
TZOFFSETFROM:-0500
TZOFFSETTO:-0600
RDATE:20211107T020000
END:STANDARD
BEGIN:DAYLIGHT
TZNAME:CDT
DTSTART:20210314T020000
TZOFFSETFROM:-0600
TZOFFSETTO:-0500
RDATE:20220313T020000
END:DAYLIGHT
END:VTIMEZONE
BEGIN:VEVENT
UID:61b7b6f5-381b-499a-84f5-dd5822f2d20e
DTSTAMP:20260424T150238Z
DESCRIPTION:
DTSTART;TZID=America/Chicago:20210430T090000
DTEND;TZID=America/Chicago:20210430T100000
LOCATION:
SUMMARY:Chair Aerobics
END:VEVENT
END:VCALENDAR
