BEGIN:VCALENDAR
VERSION:2.0
PRODID:-//empowercdc.org//NONSGML kigkonsult.se iCalcreator 2.30.10//
CALSCALE:GREGORIAN
METHOD:PUBLISH
UID:ebe3c63a-f1f7-4ece-ac9c-5b279205bbb9
X-WR-CALDESC:
X-WR-RELCALID:66e2b2cd8278e2eaf73595cba26ec753
X-WR-TIMEZONE:America/Chicago
BEGIN:VTIMEZONE
TZID:America/Chicago
BEGIN:STANDARD
TZNAME:CST
DTSTART:20201101T020000
TZOFFSETFROM:-0500
TZOFFSETTO:-0600
RDATE:20211107T020000
END:STANDARD
BEGIN:DAYLIGHT
TZNAME:CDT
DTSTART:20210314T020000
TZOFFSETFROM:-0600
TZOFFSETTO:-0500
RDATE:20220313T020000
END:DAYLIGHT
END:VTIMEZONE
BEGIN:VEVENT
UID:da3cf2d5-9b31-4b09-b215-876fdecdbc76
DTSTAMP:20260424T145915Z
DESCRIPTION:
DTSTART;TZID=America/Chicago:20210429T160000
DTEND;TZID=America/Chicago:20210429T170000
LOCATION:
SUMMARY:Meet and Greet (BINGO)
END:VEVENT
END:VCALENDAR
