BEGIN:VCALENDAR
VERSION:2.0
PRODID:-//empowercdc.org//NONSGML kigkonsult.se iCalcreator 2.30.10//
CALSCALE:GREGORIAN
METHOD:PUBLISH
UID:3c633fa1-6f61-48c8-a06b-acc9d3ff4f6c
X-WR-CALDESC:
X-WR-RELCALID:54ea7eceac54fd343f0b5ce4ac1657fd
X-WR-TIMEZONE:America/Chicago
BEGIN:VTIMEZONE
TZID:America/Chicago
BEGIN:STANDARD
TZNAME:CST
DTSTART:20201101T020000
TZOFFSETFROM:-0500
TZOFFSETTO:-0600
RDATE:20211107T020000
END:STANDARD
BEGIN:DAYLIGHT
TZNAME:CDT
DTSTART:20210314T020000
TZOFFSETFROM:-0600
TZOFFSETTO:-0500
RDATE:20220313T020000
END:DAYLIGHT
END:VTIMEZONE
BEGIN:VEVENT
UID:52dba637-74c8-4fef-a409-70c9080f6cb9
DTSTAMP:20260424T145909Z
DESCRIPTION:
DTSTART;TZID=America/Chicago:20210429T090000
DTEND;TZID=America/Chicago:20210429T100000
LOCATION:
SUMMARY:Joy Fully Healthy
END:VEVENT
END:VCALENDAR
