BEGIN:VCALENDAR
VERSION:2.0
PRODID:-//empowercdc.org//NONSGML kigkonsult.se iCalcreator 2.30.10//
CALSCALE:GREGORIAN
METHOD:PUBLISH
UID:99a9cca6-bae5-4bcc-be17-b056701c7d22
X-WR-CALDESC:For Texans walking the road to a healthier life\, the journey 
 begins with a single step...\n\nWalk N Talk is an eight-week program\ndesi
 gned to help Texans establish the habit of\n\nregular physical activity\nR
 eady to take on the challenge?\n\nActivities:\n\nExercises for Strength\, 
 Flexibility\,\nEndurance & Balance\n\nEach session will feature a fruit or
  veggie and fun recipe ideas\nWALK N TALK\nFounded on the popular Extensio
 n\nprogram Walk Across Texas! with a\ndialogue approach\nTEXAS AgriLife EX
 TENSION
X-WR-RELCALID:9c72f2407c1f2538a0e8ba2093f3e44d
X-WR-TIMEZONE:America/Chicago
BEGIN:VTIMEZONE
TZID:America/Chicago
BEGIN:STANDARD
TZNAME:CST
DTSTART:20201101T020000
TZOFFSETFROM:-0500
TZOFFSETTO:-0600
RDATE:20211107T020000
END:STANDARD
BEGIN:DAYLIGHT
TZNAME:CDT
DTSTART:20210314T020000
TZOFFSETFROM:-0600
TZOFFSETTO:-0500
RDATE:20220313T020000
END:DAYLIGHT
END:VTIMEZONE
BEGIN:VEVENT
UID:69cdcf29-513d-405e-b86c-ab45e4a859d5
DTSTAMP:20260424T150528Z
DESCRIPTION:For Texans walking the road to a healthier life\, the journey b
 egins with a single step...\n\nWalk N Talk is an eight-week program\ndesig
 ned to help Texans establish the habit of\n\nregular physical activity\nRe
 ady to take on the challenge?\n\nActivities:\n\nExercises for Strength\, F
 lexibility\,\nEndurance & Balance\n\nEach session will feature a fruit or 
 veggie and fun recipe ideas\nWALK N TALK\nFounded on the popular Extension
 \nprogram Walk Across Texas! with a\ndialogue approach\nTEXAS AgriLife EXT
 ENSION
DTSTART;TZID=America/Chicago:20210427T090000
DTEND;TZID=America/Chicago:20210427T100000
LOCATION:
SUMMARY:Walk N Talk
END:VEVENT
END:VCALENDAR
