BEGIN:VCALENDAR
VERSION:2.0
PRODID:-//empowercdc.org//NONSGML kigkonsult.se iCalcreator 2.30.10//
CALSCALE:GREGORIAN
METHOD:PUBLISH
UID:bb5178e0-fb13-4abe-9adf-61db79e9a77f
X-WR-CALDESC:
X-WR-RELCALID:6ab8ed16963f820e9105307ece764ad1
X-WR-TIMEZONE:America/Chicago
BEGIN:VTIMEZONE
TZID:America/Chicago
BEGIN:STANDARD
TZNAME:CST
DTSTART:20201101T020000
TZOFFSETFROM:-0500
TZOFFSETTO:-0600
RDATE:20211107T020000
END:STANDARD
BEGIN:DAYLIGHT
TZNAME:CDT
DTSTART:20210314T020000
TZOFFSETFROM:-0600
TZOFFSETTO:-0500
RDATE:20220313T020000
END:DAYLIGHT
END:VTIMEZONE
BEGIN:VEVENT
UID:e90fdd69-ce24-43de-971f-060f5004c684
DTSTAMP:20260424T150037Z
DESCRIPTION:
DTSTART;TZID=America/Chicago:20210426T150000
DTEND;TZID=America/Chicago:20210426T160000
LOCATION:
SUMMARY:Let's Get Crafty: Autism Speaks
END:VEVENT
END:VCALENDAR
