BEGIN:VCALENDAR
VERSION:2.0
PRODID:-//empowercdc.org//NONSGML kigkonsult.se iCalcreator 2.30.10//
CALSCALE:GREGORIAN
METHOD:PUBLISH
UID:672b687a-c470-4ec2-ba3e-9ad23abfdf39
X-WR-CALDESC:
X-WR-RELCALID:1a56bd7c80a0648177306c0ea0d0118f
X-WR-TIMEZONE:America/Chicago
BEGIN:VTIMEZONE
TZID:America/Chicago
BEGIN:STANDARD
TZNAME:CST
DTSTART:20201101T020000
TZOFFSETFROM:-0500
TZOFFSETTO:-0600
RDATE:20211107T020000
END:STANDARD
BEGIN:DAYLIGHT
TZNAME:CDT
DTSTART:20210314T020000
TZOFFSETFROM:-0600
TZOFFSETTO:-0500
RDATE:20220313T020000
END:DAYLIGHT
END:VTIMEZONE
BEGIN:VEVENT
UID:9dc93d7c-fbea-4ede-991f-b9c49e582e43
DTSTAMP:20260424T150038Z
DESCRIPTION:
DTSTART;TZID=America/Chicago:20210423T120000
DTEND;TZID=America/Chicago:20210423T130000
LOCATION:
SUMMARY:Weekly Senior Trips
END:VEVENT
END:VCALENDAR
