BEGIN:VCALENDAR
VERSION:2.0
PRODID:-//empowercdc.org//NONSGML kigkonsult.se iCalcreator 2.30.10//
CALSCALE:GREGORIAN
METHOD:PUBLISH
UID:ee406fbc-6a9c-461f-bd15-3954049ae7d3
X-WR-CALDESC:
X-WR-RELCALID:a2612fe6a8b32cfaeb2637f81f176c21
X-WR-TIMEZONE:America/Chicago
BEGIN:VTIMEZONE
TZID:America/Chicago
BEGIN:STANDARD
TZNAME:CST
DTSTART:20201101T020000
TZOFFSETFROM:-0500
TZOFFSETTO:-0600
RDATE:20211107T020000
END:STANDARD
BEGIN:DAYLIGHT
TZNAME:CDT
DTSTART:20210314T020000
TZOFFSETFROM:-0600
TZOFFSETTO:-0500
RDATE:20220313T020000
END:DAYLIGHT
END:VTIMEZONE
BEGIN:VEVENT
UID:038e1d28-5188-44c6-a022-204854739ec9
DTSTAMP:20260424T145910Z
DESCRIPTION:
DTSTART;TZID=America/Chicago:20210421T160000
DTEND;TZID=America/Chicago:20210421T170000
LOCATION:
SUMMARY:Let's Get Crafty: Autism Speaks
END:VEVENT
END:VCALENDAR
