BEGIN:VCALENDAR
VERSION:2.0
PRODID:-//empowercdc.org//NONSGML kigkonsult.se iCalcreator 2.30.10//
CALSCALE:GREGORIAN
METHOD:PUBLISH
UID:2fc79dd4-95c0-47b3-8d4a-45ad16a21e7f
X-WR-CALDESC:
X-WR-RELCALID:1bbab5db2bb871b9dfa1580f7950f5d0
X-WR-TIMEZONE:America/Chicago
BEGIN:VTIMEZONE
TZID:America/Chicago
BEGIN:STANDARD
TZNAME:CST
DTSTART:20201101T020000
TZOFFSETFROM:-0500
TZOFFSETTO:-0600
RDATE:20211107T020000
END:STANDARD
BEGIN:DAYLIGHT
TZNAME:CDT
DTSTART:20210314T020000
TZOFFSETFROM:-0600
TZOFFSETTO:-0500
RDATE:20220313T020000
END:DAYLIGHT
END:VTIMEZONE
BEGIN:VEVENT
UID:c551028b-7f5b-4968-a455-b2f1a4b47e84
DTSTAMP:20260424T145924Z
DESCRIPTION:
DTSTART;TZID=America/Chicago:20210421T150000
DTEND;TZID=America/Chicago:20210421T160000
LOCATION:
SUMMARY:BINGO W/ UNITED HELATHCARE
END:VEVENT
END:VCALENDAR
