BEGIN:VCALENDAR
VERSION:2.0
PRODID:-//empowercdc.org//NONSGML kigkonsult.se iCalcreator 2.30.10//
CALSCALE:GREGORIAN
METHOD:PUBLISH
UID:953bf43b-9a95-4363-9f54-a0c116141654
X-WR-CALDESC:Attention Scrapbookers!\n\nMaking a scrapbook is an excellent 
 way to preserve memories. Set your creativity loose and use papers\, ribbo
 ns\, stickers\, and other embellishments to decorate your pages.\n\nDoor P
 rizes and Food included.
X-WR-RELCALID:5b01debf6fb38b326afb03bf8db9bf93
X-WR-TIMEZONE:America/Chicago
BEGIN:VTIMEZONE
TZID:America/Chicago
BEGIN:STANDARD
TZNAME:CST
DTSTART:20201101T020000
TZOFFSETFROM:-0500
TZOFFSETTO:-0600
RDATE:20211107T020000
END:STANDARD
BEGIN:DAYLIGHT
TZNAME:CDT
DTSTART:20210314T020000
TZOFFSETFROM:-0600
TZOFFSETTO:-0500
RDATE:20220313T020000
END:DAYLIGHT
END:VTIMEZONE
BEGIN:VEVENT
UID:d49ee991-d23f-49c6-938c-dfaa9c16608e
DTSTAMP:20260424T145809Z
DESCRIPTION:Attention Scrapbookers!\n\nMaking a scrapbook is an excellent w
 ay to preserve memories. Set your creativity loose and use papers\, ribbon
 s\, stickers\, and other embellishments to decorate your pages.\n\nDoor Pr
 izes and Food included.
DTSTART;TZID=America/Chicago:20210420T130000
DTEND;TZID=America/Chicago:20210420T140000
LOCATION:
SUMMARY:Let's Get Crafty
END:VEVENT
END:VCALENDAR
