BEGIN:VCALENDAR
VERSION:2.0
PRODID:-//empowercdc.org//NONSGML kigkonsult.se iCalcreator 2.30.10//
CALSCALE:GREGORIAN
METHOD:PUBLISH
UID:c96112ae-483d-4ec9-a06b-be37fb2e1d75
X-WR-CALDESC:Residents will receive a food package and two bottles of hand 
 sanitizer. \n\nDoor prizes\, snacks\, and refreshments will be provided!
X-WR-RELCALID:fa5b2087d62c38e899d6c66e91514e10
X-WR-TIMEZONE:America/Chicago
BEGIN:VTIMEZONE
TZID:America/Chicago
BEGIN:STANDARD
TZNAME:CST
DTSTART:20201101T020000
TZOFFSETFROM:-0500
TZOFFSETTO:-0600
RDATE:20211107T020000
END:STANDARD
BEGIN:DAYLIGHT
TZNAME:CDT
DTSTART:20210314T020000
TZOFFSETFROM:-0600
TZOFFSETTO:-0500
RDATE:20220313T020000
END:DAYLIGHT
END:VTIMEZONE
BEGIN:VEVENT
UID:6a1a434b-095a-4c9e-9876-f7d1e5fe6459
DTSTAMP:20260424T145808Z
DESCRIPTION:Residents will receive a food package and two bottles of hand s
 anitizer. \n\nDoor prizes\, snacks\, and refreshments will be provided!
DTSTART;TZID=America/Chicago:20210420T120000
DTEND;TZID=America/Chicago:20210420T130000
LOCATION:
SUMMARY:Food Distribution
END:VEVENT
END:VCALENDAR
