BEGIN:VCALENDAR
VERSION:2.0
PRODID:-//empowercdc.org//NONSGML kigkonsult.se iCalcreator 2.30.10//
CALSCALE:GREGORIAN
METHOD:PUBLISH
UID:b5c888f3-c441-4e79-bb3a-6e0c30081c66
X-WR-CALDESC:
X-WR-RELCALID:afcca25a0b71c8e80bb5b9eb318010e6
X-WR-TIMEZONE:America/Chicago
BEGIN:VTIMEZONE
TZID:America/Chicago
BEGIN:STANDARD
TZNAME:CST
DTSTART:20201101T020000
TZOFFSETFROM:-0500
TZOFFSETTO:-0600
RDATE:20211107T020000
END:STANDARD
BEGIN:DAYLIGHT
TZNAME:CDT
DTSTART:20210314T020000
TZOFFSETFROM:-0600
TZOFFSETTO:-0500
RDATE:20220313T020000
END:DAYLIGHT
END:VTIMEZONE
BEGIN:VEVENT
UID:f6b436b0-be99-4115-9836-640c73e830ed
DTSTAMP:20260424T145633Z
DESCRIPTION:
DTSTART;TZID=America/Chicago:20210419T103000
DTEND;TZID=America/Chicago:20210419T113000
LOCATION:
SUMMARY:Dollar Tree Trip
END:VEVENT
END:VCALENDAR
