BEGIN:VCALENDAR
VERSION:2.0
PRODID:-//empowercdc.org//NONSGML kigkonsult.se iCalcreator 2.30.10//
CALSCALE:GREGORIAN
METHOD:PUBLISH
UID:d596c8af-f8ce-4040-9136-85143429efa3
X-WR-CALDESC:
X-WR-RELCALID:8016f638b5f633a496d0298e77c60761
X-WR-TIMEZONE:America/Chicago
BEGIN:VTIMEZONE
TZID:America/Chicago
BEGIN:STANDARD
TZNAME:CST
DTSTART:20201101T020000
TZOFFSETFROM:-0500
TZOFFSETTO:-0600
RDATE:20211107T020000
END:STANDARD
BEGIN:DAYLIGHT
TZNAME:CDT
DTSTART:20210314T020000
TZOFFSETFROM:-0600
TZOFFSETTO:-0500
RDATE:20220313T020000
END:DAYLIGHT
END:VTIMEZONE
BEGIN:VEVENT
UID:05129e69-a3b6-417d-99ab-8ac788871d91
DTSTAMP:20260424T145619Z
DESCRIPTION:
DTSTART;TZID=America/Chicago:20210419T160000
DTEND;TZID=America/Chicago:20210419T170000
LOCATION:
SUMMARY:BINGO
END:VEVENT
END:VCALENDAR
