BEGIN:VCALENDAR
VERSION:2.0
PRODID:-//empowercdc.org//NONSGML kigkonsult.se iCalcreator 2.30.10//
CALSCALE:GREGORIAN
METHOD:PUBLISH
UID:a34b9596-71dc-46f0-baf5-34c68f614884
X-WR-CALDESC:
X-WR-RELCALID:675538f92127626c34d72b90a66f99c5
X-WR-TIMEZONE:America/Chicago
BEGIN:VTIMEZONE
TZID:America/Chicago
BEGIN:STANDARD
TZNAME:CST
DTSTART:20201101T020000
TZOFFSETFROM:-0500
TZOFFSETTO:-0600
RDATE:20211107T020000
END:STANDARD
BEGIN:DAYLIGHT
TZNAME:CDT
DTSTART:20210314T020000
TZOFFSETFROM:-0600
TZOFFSETTO:-0500
RDATE:20220313T020000
END:DAYLIGHT
END:VTIMEZONE
BEGIN:VEVENT
UID:3af7fd33-48f1-4087-bf06-b3a37485e786
DTSTAMP:20260424T150237Z
DESCRIPTION:
DTSTART;TZID=America/Chicago:20210416T090000
DTEND;TZID=America/Chicago:20210416T100000
LOCATION:
SUMMARY:Chair Aerobics
END:VEVENT
END:VCALENDAR
