BEGIN:VCALENDAR
VERSION:2.0
PRODID:-//empowercdc.org//NONSGML kigkonsult.se iCalcreator 2.30.10//
CALSCALE:GREGORIAN
METHOD:PUBLISH
UID:2fda2f07-bb7c-4e3e-91bc-d5c5dbbe33f9
X-WR-CALDESC:
X-WR-RELCALID:c65dd49b02e6b32220f9bf5fd6c8503f
X-WR-TIMEZONE:America/Chicago
BEGIN:VTIMEZONE
TZID:America/Chicago
BEGIN:STANDARD
TZNAME:CST
DTSTART:20201101T020000
TZOFFSETFROM:-0500
TZOFFSETTO:-0600
RDATE:20211107T020000
END:STANDARD
BEGIN:DAYLIGHT
TZNAME:CDT
DTSTART:20210314T020000
TZOFFSETFROM:-0600
TZOFFSETTO:-0500
RDATE:20220313T020000
END:DAYLIGHT
END:VTIMEZONE
BEGIN:VEVENT
UID:b71b5556-7ba2-4e1c-ba69-72e6dec8c08e
DTSTAMP:20260424T145825Z
DESCRIPTION:
DTSTART;TZID=America/Chicago:20210415T160000
DTEND;TZID=America/Chicago:20210415T170000
LOCATION:
SUMMARY:Food Distribution
END:VEVENT
END:VCALENDAR
